BEGIN:VCALENDAR
VERSION:2.0
PRODID:-//Andrew and Laura McCain Art Gallery - ECPv6.15.20//NONSGML v1.0//EN
CALSCALE:GREGORIAN
METHOD:PUBLISH
X-ORIGINAL-URL:https://mccainartgallery.com
X-WR-CALDESC:Events for Andrew and Laura McCain Art Gallery
REFRESH-INTERVAL;VALUE=DURATION:PT1H
X-Robots-Tag:noindex
X-PUBLISHED-TTL:PT1H
BEGIN:VTIMEZONE
TZID:UTC
BEGIN:STANDARD
TZOFFSETFROM:+0000
TZOFFSETTO:+0000
TZNAME:UTC
DTSTART:20220101T000000
END:STANDARD
END:VTIMEZONE
BEGIN:VEVENT
DTSTART;TZID=UTC:20231109T180000
DTEND;TZID=UTC:20231116T200000
DTSTAMP:20260424T215752
CREATED:20230901T215205Z
LAST-MODIFIED:20230927T151847Z
UID:2281-1699552800-1700164800@mccainartgallery.com
SUMMARY:Lino Print Card Workshop
DESCRIPTION:Instructor: Jennifer Stead \nThursday November 9\, 6-8pm at the Andrew & Laura McCain Art Gallery (ALMAG)\nPrepare your drawing and carve your lino block! Come with a design in mind\, or carve from selected designs by Jennifer Stead. \nThursday November 16\, 6-8pm at the River Art Centre (RAC)\nPrinting a proof…or two!\nPrinting your 4.5 x 6″ cards \nCost: $45.00 per person\, all supplies provided. \nCall or email the Gallery to register 506-92-6769 info@mccainartgallery.com \nPayment secures your spot. Open to ages 15 plus. \n\nA Carl Schaeffer ink design for a Christmas card in the National Gallery of Canada Collection\nThe tradition of Christmas card giving started in Britain in the 1840s. By the 1860s developments in printing techniques allowed it to become a tradition so that by 1900 Christmas cards were popular all over Europe as well as in Canada and were mass produced. In the first half of the 20th century\, Canadian artists started their own tradition of making unique\, hand printed cards with linoleum\, woodblock or silk screen\, sometimes hand tinting each card individually. Carl Schaefer made many black and white card designs which are the simplest to do and are still elegant and festive. Here are some other examples.\n\nThis card of the family cutting a Christmas tree uses 5 colours and is called a Reduction Print\, which is a bit more complicated with a few more stages ( 1 per colour) and requires more preparation in the drawing stage. Making a reduction print is bit like solving a puzzle –  good for your brain\, fun and you’ll feel very pleased with yourself.\n \nThis card by  A. Y. Jackson\, another prolific card maker and sender like many of the Group of Seven\, printed the black and then hand painted the colour after the ink had dried. Easy\, quick and satisfying.
URL:https://mccainartgallery.com/exhibitions/lino-print-card-workshop/
CATEGORIES:Adults,Events,Professional Development Arts,Programs & Workshops,Teens
ATTACH;FMTTYPE=image/jpeg:https://mccainartgallery.com/wp-content/uploads/2022/02/christmas-carl-s.jpeg
ORGANIZER;CN="Jennifer Stead":MAILTO:info@mccainartgallery.com
END:VEVENT
END:VCALENDAR