BEGIN:VCALENDAR
VERSION:2.0
PRODID:-//Andrew and Laura McCain Art Gallery - ECPv6.15.20//NONSGML v1.0//EN
CALSCALE:GREGORIAN
METHOD:PUBLISH
X-WR-CALNAME:Andrew and Laura McCain Art Gallery
X-ORIGINAL-URL:https://mccainartgallery.com
X-WR-CALDESC:Events for Andrew and Laura McCain Art Gallery
REFRESH-INTERVAL;VALUE=DURATION:PT1H
X-Robots-Tag:noindex
X-PUBLISHED-TTL:PT1H
BEGIN:VTIMEZONE
TZID:America/Halifax
BEGIN:DAYLIGHT
TZOFFSETFROM:-0400
TZOFFSETTO:-0300
TZNAME:ADT
DTSTART:20250309T060000
END:DAYLIGHT
BEGIN:STANDARD
TZOFFSETFROM:-0300
TZOFFSETTO:-0400
TZNAME:AST
DTSTART:20251102T050000
END:STANDARD
BEGIN:DAYLIGHT
TZOFFSETFROM:-0400
TZOFFSETTO:-0300
TZNAME:ADT
DTSTART:20260308T060000
END:DAYLIGHT
BEGIN:STANDARD
TZOFFSETFROM:-0300
TZOFFSETTO:-0400
TZNAME:AST
DTSTART:20261101T050000
END:STANDARD
BEGIN:DAYLIGHT
TZOFFSETFROM:-0400
TZOFFSETTO:-0300
TZNAME:ADT
DTSTART:20270314T060000
END:DAYLIGHT
BEGIN:STANDARD
TZOFFSETFROM:-0300
TZOFFSETTO:-0400
TZNAME:AST
DTSTART:20271107T050000
END:STANDARD
END:VTIMEZONE
BEGIN:VEVENT
DTSTART;VALUE=DATE:20260422
DTEND;VALUE=DATE:20260425
DTSTAMP:20260419T110016
CREATED:20260325T152223Z
LAST-MODIFIED:20260325T152223Z
UID:9316-1776816000-1777075199@mccainartgallery.com
SUMMARY:Clay Marcos' Collection of Indigenous and Inuit Art
DESCRIPTION:
URL:https://mccainartgallery.com/exhibitions/clay-marcos-collection-of-indigenous-and-inuit-art/#new_tab
CATEGORIES:Gallery Calendar
ATTACH;FMTTYPE=image/jpeg:https://mccainartgallery.com/wp-content/uploads/2026/03/Clay-Marcos.jpg
END:VEVENT
BEGIN:VEVENT
DTSTART;TZID=America/Halifax:20260423T180000
DTEND;TZID=America/Halifax:20260423T200000
DTSTAMP:20260419T110016
CREATED:20251210T150718Z
LAST-MODIFIED:20260228T142137Z
UID:8834-1776967200-1776974400@mccainartgallery.com
SUMMARY:Clay Drop-in: Newbie
DESCRIPTION:
URL:https://mccainartgallery.com/exhibitions/6774/#new_tab
CATEGORIES:Gallery Calendar
ATTACH;FMTTYPE=image/jpeg:https://mccainartgallery.com/wp-content/uploads/2025/12/april-newbie-DATE-CHANGE.jpg
END:VEVENT
END:VCALENDAR